BEGIN:VCALENDAR
VERSION:2.0
PRODID:-//Vanuatu Chamber of Commerce and Industry - ECPv6.14.1//NONSGML v1.0//EN
CALSCALE:GREGORIAN
METHOD:PUBLISH
X-ORIGINAL-URL:https://vcci.vu
X-WR-CALDESC:Events for Vanuatu Chamber of Commerce and Industry
REFRESH-INTERVAL;VALUE=DURATION:PT1H
X-Robots-Tag:noindex
X-PUBLISHED-TTL:PT1H
BEGIN:VTIMEZONE
TZID:Pacific/Noumea
BEGIN:STANDARD
TZOFFSETFROM:+1100
TZOFFSETTO:+1100
TZNAME:+11
DTSTART:20230101T000000
END:STANDARD
END:VTIMEZONE
BEGIN:VEVENT
DTSTART;TZID=Pacific/Noumea:20230404T083000
DTEND;TZID=Pacific/Noumea:20230404T120000
DTSTAMP:20260424T194939
CREATED:20230329T233910Z
LAST-MODIFIED:20230329T234346Z
UID:8427-1680597000-1680609600@vcci.vu
SUMMARY:PORT VILA WORKSHOP: Half day workshop on Customer Service
DESCRIPTION:Come along to this half day Customer Service refresher training workshop with Jinny Ruben on the 4th April (next Tuesday\, so get in quick!). \nJinny will be providing tips and tricks to providing good customer service across all industry sectors\, with practical scenario and role activities to refresh you or your customer facing staff in how to provide a great experience every time.
URL:https://vcci.vu/event/half-day-workshop-on-customer-service/
LOCATION:VCCI Office\, Rue de Paris Street\, Port Vila\, Efate\, Vanuatu
END:VEVENT
BEGIN:VEVENT
DTSTART;TZID=Pacific/Noumea:20230419T083000
DTEND;TZID=Pacific/Noumea:20230419T120000
DTSTAMP:20260424T194939
CREATED:20230329T235857Z
LAST-MODIFIED:20230329T235857Z
UID:8436-1681893000-1681905600@vcci.vu
SUMMARY:PORT VILA WORKSHOP: How loans work
DESCRIPTION:The last thing you or banks want is for you to take out a loan and not be able to afford to pay it off. While lenders typically do their due diligence to make sure you have the ability to repay the debt\, it’s smart to run your own numbers to make sure it’ll work out. \nVCCI has been working on with Wanfuteng Bank in relation to financial literacy. We want to explain in real terms how loans work with banks\, and how to best select and manage your investments into your own business. \nCome along and get informed at this free half day workshop.
URL:https://vcci.vu/event/port-vila-workshop-how-loans-work/
LOCATION:VCCI Office\, Rue de Paris Street\, Port Vila\, Efate\, Vanuatu
ATTACH;FMTTYPE=image/png:https://vcci.vu/wp-content/uploads/2023/03/futeng.png
END:VEVENT
BEGIN:VEVENT
DTSTART;TZID=Pacific/Noumea:20230420T083000
DTEND;TZID=Pacific/Noumea:20230427T120000
DTSTAMP:20260424T194939
CREATED:20230330T000913Z
LAST-MODIFIED:20230412T005344Z
UID:8450-1681979400-1682596800@vcci.vu
SUMMARY:SANTO WORKSHOP: How loans work
DESCRIPTION:The last thing you or banks want is for you to take out a loan and not be able to afford to pay it off. While lenders typically do their due diligence to make sure you have the ability to repay the debt\, it’s smart to run your own numbers to make sure it’ll work out. \nVCCI has been working on with Wanfuteng Bank in relation to financial literacy. We want to explain in real terms how loans work with banks\, and how to best select and manage your investments into your own business. \nCome along and get informed at this free half day workshop.
URL:https://vcci.vu/event/santo-workshop-how-loans-work/
LOCATION:Efate
ATTACH;FMTTYPE=image/png:https://vcci.vu/wp-content/uploads/2023/03/futeng.png
END:VEVENT
BEGIN:VEVENT
DTSTART;TZID=Pacific/Noumea:20230426T083000
DTEND;TZID=Pacific/Noumea:20230426T120000
DTSTAMP:20260424T194939
CREATED:20230330T000417Z
LAST-MODIFIED:20230330T000417Z
UID:8441-1682497800-1682510400@vcci.vu
SUMMARY:PORT VILA WORKSHOP: How to create a budget and create savings
DESCRIPTION:VCCI and Wanfuteng have designed this half-day workshop to help you in creating budgets and learning how to save for a rainy day for your business. \nWhat is the difference between budgeting and savings? Budgeting is the act of putting together a budget\, which is an estimate of your revenue and expected expenses for a given time period. Savings refers to the money left over after your expenses are subtracted from your revenue\, also within a specific time period. \nCome along and learn how to create a budget using a simple template\, to help you keep track of your spending\, and create space for savings in your business.
URL:https://vcci.vu/event/port-vila-workshop-how-to-create-a-budget-and-create-savings/
LOCATION:VCCI Office\, Rue de Paris Street\, Port Vila\, Efate\, Vanuatu
ATTACH;FMTTYPE=image/jpeg:https://vcci.vu/wp-content/uploads/2023/03/budgetandsavings.jpg
END:VEVENT
BEGIN:VEVENT
DTSTART;TZID=Pacific/Noumea:20230427T083000
DTEND;TZID=Pacific/Noumea:20230427T120000
DTSTAMP:20260424T194939
CREATED:20230330T000736Z
LAST-MODIFIED:20230330T000736Z
UID:8446-1682584200-1682596800@vcci.vu
SUMMARY:SANTO WORKSHOP: Creating budgets and savings for your business
DESCRIPTION:VCCI and Wanfuteng have designed this half-day workshop to help you in creating budgets and learning how to save for a rainy day for your business. \nWhat is the difference between budgeting and savings? Budgeting is the act of putting together a budget\, which is an estimate of your revenue and expected expenses for a given time period. Savings refers to the money left over after your expenses are subtracted from your revenue\, also within a specific time period. \nCome along and learn how to create a budget using a simple template\, to help you keep track of your spending\, and create space for savings in your business.
URL:https://vcci.vu/event/santo-workshop-creating-budgets-and-savings-for-your-business/
LOCATION:Efate
ATTACH;FMTTYPE=image/jpeg:https://vcci.vu/wp-content/uploads/2023/03/budgetandsavings.jpg
END:VEVENT
BEGIN:VEVENT
DTSTART;TZID=Pacific/Noumea:20230718T080000
DTEND;TZID=Pacific/Noumea:20230718T170000
DTSTAMP:20260424T194939
CREATED:20230704T045814Z
LAST-MODIFIED:20230704T045929Z
UID:8670-1689667200-1689699600@vcci.vu
SUMMARY:PORT VILA WORKSHOP: Creating Customer Service Champions
DESCRIPTION:Learn how to deal with difficult customers and turn them into satisfied customers with our one and only super star facilitator Tahnia Cook on Tuesday 18th of July 2023 from 8am-4pm. This workshop is targeted at local businesses customer service representatives to create an awareness around the many types of customers both internal and external. The workshop also focuses on making good first impressions as well as how to handle difficult customers. The workshop delivery varies between face-to-face discussions\, group discussions and presentation\, video scenarios of good vs poor service and individual question and answers in the workbook provided. The workshop is for long term employees as well as being very powerful for newly recruited or transitioned staff to also understand the many different customer types and how to handle and manage each person effectively.
URL:https://vcci.vu/event/port-vila-workshop-creating-customer-service-champions/
LOCATION:VCCI Office\, Rue de Paris Street\, Port Vila\, Efate\, Vanuatu
CATEGORIES:General Event
END:VEVENT
BEGIN:VEVENT
DTSTART;TZID=Pacific/Noumea:20230720T080000
DTEND;TZID=Pacific/Noumea:20230720T160000
DTSTAMP:20260424T194939
CREATED:20230704T045624Z
LAST-MODIFIED:20230704T045624Z
UID:8666-1689840000-1689868800@vcci.vu
SUMMARY:PORT VILA WORKSHOP: Supervisor Workshop
DESCRIPTION:This workshop is about empowering supervisors in the workplace to become better leaders\, learning to delegate effectively to their team\, improve communication and approach with daily tasks through better understanding individual needs and preferences while giving them a toolkit of resources to pull from to support them their roles. The day is focused on better understanding their role as supervisors and how they can use the information learnt to maximize employee productivity\, create a better working environment\, and achieve outputs required every time. The workshop is aimed at inspiring and uplifting participants and give them the power to make better decisions and communicate more effectively. Join our star facilitator Tahnia Cook on Thursday 20th  of July 2023 from 8am-4pm.
URL:https://vcci.vu/event/port-vila-workshop-supervisor-workshop/
LOCATION:VCCI Office\, Rue de Paris Street\, Port Vila\, Efate\, Vanuatu
CATEGORIES:General Event
END:VEVENT
BEGIN:VEVENT
DTSTART;TZID=Pacific/Noumea:20230807T080000
DTEND;TZID=Pacific/Noumea:20230807T170000
DTSTAMP:20260424T194939
CREATED:20230728T033300Z
LAST-MODIFIED:20230731T205555Z
UID:8798-1691395200-1691427600@vcci.vu
SUMMARY:SANTO WORKSHOP: Usum Facebook blo promotem smol bisnis - BEGINNERS
DESCRIPTION:Yu save hao blo krietem wan bisnis peij lo FB or yu no save nating hau blo promotem bisnis mo mekem wan post blo advatisem bisnis blo yu? Sipos yu no save kam joenem Tahnia Cook we hemi wan Maketing Koj blo mifala bae I tekem yu lo ol simpol steps blo hao nao yu save krietem mo mekem ol post blo advatisem gud bisnis blo yu long Facebook. Naia hemi taem blo yumi ol bisnis man blo yumi putum wan step e ko foret blo yumi gro. So kam joenem VCCI blo mekem wan jenj lo bisnis blong yu. Kam wetem wan fone\, tablet or laptop blo save lanem step by step hau blo createm bisnis peij moo l nara tools weh yu save usum lo fesbuk! \nWhen: Monday 7th August \nTime: Full day – 8.30 to 4.30 \nPorts and Harbour Training Room \nBook your seat by clicking in the left hand column\, or by calling Candyce on 5580870 or 7677869
URL:https://vcci.vu/event/santo-workshop-usum-facebook-blo-promotem-smol-bisnis-beginners/
LOCATION:Efate
CATEGORIES:Featured Event
ATTACH;FMTTYPE=image/jpeg:https://vcci.vu/wp-content/uploads/2023/07/Is-Facebook-Marketing-Still-Relevant-for-Brands-in-2022.jpg
END:VEVENT
BEGIN:VEVENT
DTSTART;TZID=Pacific/Noumea:20230808T080000
DTEND;TZID=Pacific/Noumea:20230808T170000
DTSTAMP:20260424T194939
CREATED:20230728T033612Z
LAST-MODIFIED:20230731T205508Z
UID:8803-1691481600-1691514000@vcci.vu
SUMMARY:SANTO WORKSHOP: Creating Customer Service Champions
DESCRIPTION:Learn how to deal with difficult customers and turn them into satisfied customers with our one and only super star facilitator Tahnia Cook on Tuesday 8th of August 2023 from 8am-4pm. This workshop is targeted at local businesses customer service representatives to create an awareness around the many types of customers both internal and external. \nThe workshop also focuses on making good first impressions as well as how to handle difficult customers. The workshop delivery varies between face-to-face discussions\, group discussions and presentation\, video scenarios of good vs poor service and individual question and answers in the workbook provided. The workshop is for long term employees as well as being very powerful for newly recruited or transitioned staff to also understand the many different customer types and how to handle and manage each person effectively. \nWhen: Tuesday 8th August \nTime: Full day \nWhere: Ports and Harbour Training Room \nBook your seat by clicking in the left hand column\, or by calling Candyce on 5580870 or 7677869
URL:https://vcci.vu/event/santo-workshop-creating-customer-service-champions/
LOCATION:Efate
CATEGORIES:Featured Event
ATTACH;FMTTYPE=image/jpeg:https://vcci.vu/wp-content/uploads/2023/07/Customer-Service.jpg
END:VEVENT
BEGIN:VEVENT
DTSTART;TZID=Pacific/Noumea:20230809T083000
DTEND;TZID=Pacific/Noumea:20230809T123000
DTSTAMP:20260424T194939
CREATED:20230728T030319Z
LAST-MODIFIED:20230731T205329Z
UID:8790-1691569800-1691584200@vcci.vu
SUMMARY:SANTO WORKSHOP: Financial Record-Keeping 101 for Small Businesses
DESCRIPTION:Financial record-keeping is simply keeping records of all the financial transactions of your business\, e.g.\, recording sales\, entering vendor bills\, and processing payroll. Basically\, you will be tracking all movements of your money\, both in and out of your bank account. \nCome along and learn how to create accurate records using a ledger book or even Excel that can help you make informed business decisions. We are here to help you help your business. \nWhen: Wednesday 9th August \nTime: 8.30am-12.30pm \nLocation: Ports and Harbour Training Room \nBook your seat by clicking in the left hand column\, or by calling Candyce on 5580870 or 7677869
URL:https://vcci.vu/event/santo-workshop-financial-record-keeping-101-for-small-businesses/
LOCATION:Efate
CATEGORIES:Featured Event
ATTACH;FMTTYPE=image/jpeg:https://vcci.vu/wp-content/uploads/2023/07/retention.jpg
END:VEVENT
BEGIN:VEVENT
DTSTART;TZID=Pacific/Noumea:20230809T130000
DTEND;TZID=Pacific/Noumea:20230809T170000
DTSTAMP:20260424T194939
CREATED:20230728T024702Z
LAST-MODIFIED:20230731T205258Z
UID:8784-1691586000-1691600400@vcci.vu
SUMMARY:SANTO WORKSHOP: Creating budgets and savings for your business
DESCRIPTION:Budgeting is a proactive approach to organizing your finances. A budget tracks what you earn and what you spend and ensures you have more money coming in than you have going out. This allows you to cover the costs of living and your business\, and to plan toward short- and long-term goals. \nCome along and learn how to create a budget using a simple template\, to help you keep track of your spending\, and create space for savings in your business. \nWhen: Wednesday 9th August \nTime: 1pm-5pm \nLocation: Ports and Harbour Training Room \nBook your seat by entering your details in the left hand column\, or by calling Candyce on 5580870 or 7677869
URL:https://vcci.vu/event/santo-workshop-creating-budgets-and-savings-for-your-business-2/
LOCATION:Efate
CATEGORIES:Featured Event
ATTACH;FMTTYPE=image/webp:https://vcci.vu/wp-content/uploads/2023/07/capital-budgeting.webp
END:VEVENT
BEGIN:VEVENT
DTSTART;VALUE=DATE:20230911
DTEND;VALUE=DATE:20230913
DTSTAMP:20260424T194939
CREATED:20230905T031219Z
LAST-MODIFIED:20230905T031219Z
UID:8939-1694390400-1694563199@vcci.vu
SUMMARY:SANTO WORKSHOP: Usum Facebook blo promotem smol bisnis – 2 dei woksop!
DESCRIPTION:Yu save hau blo krietem wan fesbuk peij? Yu wantem promotem bisnis mo advertisem lo Fesbuk? Kam Joinem Tahnia Cook\, fesbuk maket coj blo VCCI\, bai hemi tekem yu tru lo ol simpol step blo hau nau yu save krietem wan fesbuk peij blo bisnis blo yu. Bai yu lanem tu hau blo mekem ol pos blo save attraktem ol kastoma. Yu mas kat wan fone\, tablet or laptop blo usum lo taem ia blo yu save kreitem wan peij blo bisnis blo yu. \n2 dei trening ia bah yu save lanem tu ol app olsem CANVA mo Snapseed blo usum taem u stap post lo fes buk peij blo bisnis. \nWetem CANVA yu save kreitem kwaliti pikja weh yu save usum blo mekem ol gudfala post. E kat ol difren platform weh yu save usum blo editim ol pikja mo video blo u save uplodem lo fesbuk paij blo \nSnapseed emi wan fri app weh yu save usum lo ol fone mo tablet. Emi kat ol gudfla tul weh yu save usum blo editim ol foto blo post. \nWetaem: Mondei 11 mo Tusdei 12 Septemba – Nekis Wik! \nWanem taem: 2 full dei stat lo 8:30am kasem 4:30pm \nPles blo woksop: Ports & Habour Conference Rum antap (Niscol) \nYu save bukim spes blo yu taem yu klik lo left han kolom or yu save kolem Candyce lo 5580870 / 7677869.
URL:https://vcci.vu/event/santo-workshop-usum-facebook-blo-promotem-smol-bisnis-2-dei-woksop/
LOCATION:Efate
CATEGORIES:Featured Event,General Event
ATTACH;FMTTYPE=image/jpeg:https://vcci.vu/wp-content/uploads/2023/07/Is-Facebook-Marketing-Still-Relevant-for-Brands-in-2022.jpg
END:VEVENT
BEGIN:VEVENT
DTSTART;TZID=Pacific/Noumea:20240207T100000
DTEND;TZID=Pacific/Noumea:20240207T130000
DTSTAMP:20260424T194939
CREATED:20240130T004953Z
LAST-MODIFIED:20240131T051239Z
UID:9074-1707300000-1707310800@vcci.vu
SUMMARY:Attention all potential exporters! This workshop is for you
DESCRIPTION:On Wednesday February 7th VCCI will be hosting a half day workshop targeting Industry Permit holders\, Businesses and Exporters. This half day workshop will be focusing on taking you through different types of requirements to export your products to other regional and international countries and is being facilitated by Dion Palu of Quality Solutions. \nDion will be explaining such international certifications including ISO\, HACCP and Organic.
URL:https://vcci.vu/event/attention-all-potential-exporters-this-workshop-is-for-you/
LOCATION:VCCI Office\, Rue de Paris Street\, Port Vila\, Efate\, Vanuatu
CATEGORIES:Featured Event,General Event
ATTACH;FMTTYPE=image/png:https://vcci.vu/wp-content/uploads/2024/01/export.png
END:VEVENT
BEGIN:VEVENT
DTSTART;TZID=Pacific/Noumea:20240222T083000
DTEND;TZID=Pacific/Noumea:20240222T160000
DTSTAMP:20260424T194939
CREATED:20240215T044211Z
LAST-MODIFIED:20240512T235908Z
UID:9117-1708590600-1708617600@vcci.vu
SUMMARY:LUGANVILLE WORKSHOP: Advanced Supervisor training workshop
DESCRIPTION:This workshop is about empowering supervisors in the workplace to become better leaders\, learning to delegate effectively to their team\, improve communication and approach with daily tasks through better understanding individual needs and preferences while giving them a toolkit of resources to pull from to support them their roles. The day is focused on better understanding their role as supervisors and how they can use the information learnt to maximize employee productivity\, create a better working environment\, and achieve outputs required every time. The workshop is aimed at inspiring and uplifting participants and give them the power to make better decisions and communicate more effectively. Join our star facilitator Tahnia Cook on Thursday 22nd February from 8.30am-4pm.
URL:https://vcci.vu/event/luganville-workshop-advanced-supervisor-training-workshop/
LOCATION:Efate
CATEGORIES:General Event
ATTACH;FMTTYPE=image/jpeg:https://vcci.vu/wp-content/uploads/2024/02/super.jpeg
END:VEVENT
BEGIN:VEVENT
DTSTART;VALUE=DATE:20240917
DTEND;VALUE=DATE:20240918
DTSTAMP:20260424T194939
CREATED:20240903T235425Z
LAST-MODIFIED:20240916T222658Z
UID:9439-1726531200-1726617599@vcci.vu
SUMMARY:PORT VILA WORKSHOP: Creating Customer Service Champions\, Tuesday 17th of September 2024
DESCRIPTION:Learn how to deal with difficult customers and turn them into satisfied customers with our one and only super star facilitator Tahnia Cook on Tuesday 17th of September from 8am-4pm. This workshop is targeted at local businesses customer service representatives to create an awareness around the many types of customers both internal and external. The workshop also focuses on making good first impressions as well as how to handle difficult customers. The workshop delivery varies between face-to-face discussions\, group discussions and presentation\, video scenarios of good vs poor service and individual question and answers in the workbook provided. The workshop is for long term employees as well as being very powerful for newly recruited or transitioned staff to also understand the many different customer types and how to handle and manage each person effectively.
URL:https://vcci.vu/event/port-vila-workshop-creating-customer-service-champions-tuesday-17th-of-september-2024/
LOCATION:VCCI Office\, Rue de Paris Street\, Port Vila\, Efate\, Vanuatu
CATEGORIES:General Event
END:VEVENT
BEGIN:VEVENT
DTSTART;VALUE=DATE:20240919
DTEND;VALUE=DATE:20240920
DTSTAMP:20260424T194939
CREATED:20240903T235615Z
LAST-MODIFIED:20240916T222649Z
UID:9445-1726704000-1726790399@vcci.vu
SUMMARY:PORT VILA WORKSHOP: Supervisor Workshop\, Thursday 19th September 2024
DESCRIPTION:This workshop is about empowering supervisors in the workplace to become better leaders\, learning to delegate effectively to their team\, improve communication and approach with daily tasks through better understanding individual needs and preferences while giving them a toolkit of resources to pull from to support them their roles. The day is focused on better understanding their role as supervisors and how they can use the information learnt to maximize employee productivity\, create a better working environment\, and achieve outputs required every time. The workshop is aimed at inspiring and uplifting participants and give them the power to make better decisions and communicate more effectively. Join our star facilitator Tahnia Cook on Thursday 19th September 2024 from 8am-4pm.
URL:https://vcci.vu/event/port-vila-workshop-supervisor-workshop-thursday-19th-september-2024/
LOCATION:VCCI Office\, Rue de Paris Street\, Port Vila\, Efate\, Vanuatu
CATEGORIES:General Event
END:VEVENT
BEGIN:VEVENT
DTSTART;VALUE=DATE:20240925
DTEND;VALUE=DATE:20240926
DTSTAMP:20260424T194939
CREATED:20240903T235639Z
LAST-MODIFIED:20240903T235639Z
UID:9442-1727222400-1727308799@vcci.vu
SUMMARY:PORT VILA WORKSHOP: Creating Customer Service Champions\, Wednesday 25th of September
DESCRIPTION:Learn how to deal with difficult customers and turn them into satisfied customers with our one and only super star facilitator Tahnia Cook on Wednesday 25th of September from 8am-4pm. This workshop is targeted at local businesses customer service representatives to create an awareness around the many types of customers both internal and external. The workshop also focuses on making good first impressions as well as how to handle difficult customers. The workshop delivery varies between face-to-face discussions\, group discussions and presentation\, video scenarios of good vs poor service and individual question and answers in the workbook provided. The workshop is for long term employees as well as being very powerful for newly recruited or transitioned staff to also understand the many different customer types and how to handle and manage each person effectively.
URL:https://vcci.vu/event/port-vila-workshop-creating-customer-service-champions-wednesday-25th-of-september/
LOCATION:VCCI Office\, Rue de Paris Street\, Port Vila\, Efate\, Vanuatu
CATEGORIES:General Event
END:VEVENT
BEGIN:VEVENT
DTSTART;VALUE=DATE:20240927
DTEND;VALUE=DATE:20240928
DTSTAMP:20260424T194939
CREATED:20240903T235708Z
LAST-MODIFIED:20240903T235708Z
UID:9449-1727395200-1727481599@vcci.vu
SUMMARY:PORT VILA WORKSHOP: Supervisor Workshop Friday 27th September 2024
DESCRIPTION:This workshop is about empowering supervisors in the workplace to become better leaders\, learning to delegate effectively to their team\, improve communication and approach with daily tasks through better understanding individual needs and preferences while giving them a toolkit of resources to pull from to support them their roles. The day is focused on better understanding their role as supervisors and how they can use the information learnt to maximize employee productivity\, create a better working environment\, and achieve outputs required every time. The workshop is aimed at inspiring and uplifting participants and give them the power to make better decisions and communicate more effectively. Join our star facilitator Tahnia Cook on Friday 27th of September 2024 from 8am-4pm.
URL:https://vcci.vu/event/port-vila-workshop-supervisor-workshop-friday-27th-september-2024/
LOCATION:VCCI Office\, Rue de Paris Street\, Port Vila\, Efate\, Vanuatu
CATEGORIES:General Event
END:VEVENT
BEGIN:VEVENT
DTSTART;VALUE=DATE:20241017
DTEND;VALUE=DATE:20241018
DTSTAMP:20260424T194939
CREATED:20240904T050242Z
LAST-MODIFIED:20240904T050242Z
UID:9463-1729123200-1729209599@vcci.vu
SUMMARY:Port Vila Workshop - Working with family and business\, Thursday 17th October
DESCRIPTION:The workshop is developed by our Life Coach\, Jinny Ruben\, to help business owners learn how to work well together with their spouse and extended family in running a business. We all know that building great relationships and having effective communication is the key to running a successful business. This workshop will provide you with effective communication skills and tools to build and maintain great working relationships in business and in life.
URL:https://vcci.vu/event/port-vila-workshop-supervisor-workshop-2/
LOCATION:VCCI Office\, Rue de Paris Street\, Port Vila\, Efate\, Vanuatu
CATEGORIES:General Event
END:VEVENT
END:VCALENDAR